BEGIN:VCALENDAR
METHOD:PUBLISH
VERSION:2.0
CALSCALE:GREGORIAN
PRODID:-//NONSGML WPForms//NONSGML Sugar Calendar Feeds v3.10.0//EN
X-WR-CALNAME:Choir-Rehearsal
X-WR-CALDESC:St. Mark&#039\;s Episcopal Church\, Clifford\, VA
X-WR-TIMEZONE:UTC
BEGIN:VTIMEZONE
TZID:UTC
BEGIN:STANDARD
TZOFFSETFROM:+0000
TZOFFSETTO:+0000
DTSTART:20251105T050000
TZNAME:UTC
END:STANDARD
END:VTIMEZONE
BEGIN:VTIMEZONE
TZID:UTC
BEGIN:STANDARD
TZOFFSETFROM:+0000
TZOFFSETTO:+0000
DTSTART:20251105T050000
TZNAME:UTC
END:STANDARD
END:VTIMEZONE
BEGIN:VEVENT
SUMMARY:Choir Rehearsal
DESCRIPTION:
URL;VALUE=URI:https://www.stmarksclifford.org/sc_recurring_event/choir-r
 ehearsal/
UID:urn:uuid:da306483-ffc9-4654-89d0-30fb4e7e4e2c
STATUS:CONFIRMED
ORGANIZER:
DTSTAMP:20260420T054032Z
DTSTART;TZID=UTC:20260506T170000
DTEND;TZID=UTC:20260506T180000
RRULE:FREQ=WEEKLY;INTERVAL=1
LOCATION:670 Patrick Henry Highway
END:VEVENT
END:VCALENDAR